BEGIN:VCALENDAR
VERSION:2.0
PRODID:-//wp-events-plugin.com//7.2.3.1//EN
TZID:America/New_York
X-WR-TIMEZONE:America/New_York
BEGIN:VEVENT
UID:1617@unitarian.ithaca.ny.us
DTSTART;TZID=America/New_York:20250221T173000
DTEND;TZID=America/New_York:20250221T183000
DTSTAMP:20250101T213844Z
URL:https://unitarian.ithaca.ny.us/index.php/events/spiritual-yoga-class-2
 025-02-21/
SUMMARY:Spiritual Yoga Class
DESCRIPTION:Spiritual Yoga Class\nFriday\, January 17 at 5:30 pm\n\nPlease 
 join our FUSIT exclusive Spiritual Yoga class with Certified Kundalini Yog
 a Teacher (and Religious Exploration Coordinator)\, Madeline Natale. Yoga
  will be held at Yoga Farm Ithaca (509 N. Meadow St.\, Ithaca) on the 3rd 
 Friday of the month from 5:30 - 6:30 pm with tea to follow! Bring your own
  mug\, and maybe a snack to share. For further information\, contact Madel
 ine at reasst@uuithaca.org. These classes are free of charge.
END:VEVENT
BEGIN:VTIMEZONE
TZID:America/New_York
X-LIC-LOCATION:America/New_York
BEGIN:STANDARD
DTSTART:20241103T010000
TZOFFSETFROM:-0400
TZOFFSETTO:-0500
TZNAME:EST
END:STANDARD
END:VTIMEZONE
END:VCALENDAR