BEGIN:VCALENDAR
VERSION:2.0
PRODID:-//wp-events-plugin.com//7.2.3.1//EN
TZID:America/New_York
X-WR-TIMEZONE:America/New_York
BEGIN:VEVENT
UID:467@unitarian.ithaca.ny.us
DTSTART;TZID=America/New_York:20220510T190000
DTEND;TZID=America/New_York:20220510T200000
DTSTAMP:20220420T163740Z
URL:https://unitarian.ithaca.ny.us/index.php/events/small-group-ministry-e
 xploration/
SUMMARY:Small Group Ministry Exploration
DESCRIPTION:Newcomers and long-standing community members who have never go
 tten a chance to participate in Small Group Ministry (SGM) are invited to 
 this virtual event.  Come and experience how this important aspect of our
  ministry can deepen your connection to yourself and the community.  This
  virtual meeting will include an overview of SGM\, a chance to participate
  in an example session\, and a time for questions and reflections.  New g
 roups will be starting up this fall and you can register if you would like
  to be placed in one at the meeting. If you are unable to attend and want 
 to learn more about SGM you can email Marsha Kardon at mfkardon@gmail.com.
 \n\n&nbsp\;\n\nEmail office@uuithaca.org for the Zoom link (or check the W
 eekly Announce).
END:VEVENT
BEGIN:VTIMEZONE
TZID:America/New_York
X-LIC-LOCATION:America/New_York
BEGIN:DAYLIGHT
DTSTART:20220313T030000
TZOFFSETFROM:-0500
TZOFFSETTO:-0400
TZNAME:EDT
END:DAYLIGHT
END:VTIMEZONE
END:VCALENDAR