BEGIN:VCALENDAR
VERSION:2.0
PRODID:-//wp-events-plugin.com//7.2.3.1//EN
TZID:America/New_York
X-WR-TIMEZONE:America/New_York
BEGIN:VEVENT
UID:1316@unitarian.ithaca.ny.us
DTSTART;TZID=America/New_York:20240421T120000
DTEND;TZID=America/New_York:20240421T130000
DTSTAMP:20240327T200838Z
URL:http://unitarian.ithaca.ny.us/index.php/events/new-small-group-ministr
 y-for-parents-2/
SUMMARY:NEW Small Group Ministry for Parents
DESCRIPTION:NEW Small Group Ministry for Parents\nChildcare Provided\nSunda
 y\, April 21 from 12 - 1 pm\nFUSIT Library\nWe are continuing to offer o
 ur Small Group Ministry for individuals who are actively parenting. The gr
 oup will follow the Soul Matters themes with a focus on how they are relat
 ed to the journey and experience of being a parent. Gatherings will take p
 lace monthly on the third Sunday of the month from 12 - 1 pm\, with childc
 are available. We invite you to join us for an opportunity for fellowship 
 and community within our larger First UU community\, in a safe\, confident
 ial and nurturing environment.
END:VEVENT
BEGIN:VTIMEZONE
TZID:America/New_York
X-LIC-LOCATION:America/New_York
BEGIN:DAYLIGHT
DTSTART:20240310T030000
TZOFFSETFROM:-0500
TZOFFSETTO:-0400
TZNAME:EDT
END:DAYLIGHT
END:VTIMEZONE
END:VCALENDAR