BEGIN:VCALENDAR
VERSION:2.0
PRODID:-//wp-events-plugin.com//7.2.3.1//EN
TZID:America/New_York
X-WR-TIMEZONE:America/New_York
BEGIN:VEVENT
UID:796@unitarian.ithaca.ny.us
DTSTART;TZID=America/New_York:20230531T183000
DTEND;TZID=America/New_York:20230531T200000
DTSTAMP:20230503T190737Z
URL:http://unitarian.ithaca.ny.us/index.php/events/anti-racism-ministry-te
 am-meeting-3/
SUMMARY:Anti-racism Ministry Team Meeting
DESCRIPTION:The Anti-racism Ministry Team (ARMT) usually meets on the 4th 
 Wednesday of each month but because the Annual Meeting is taking place on 
 May 24\, we are moving the meeting to the following Wednesday\, May 31.\n
 \nWe will meet in person in the Annex starting at 6:30 pm with a light s
 upper being offered. We will start at 7 pm with an activity and discussio
 n. We will be exploring a hands on arts and crafts exercise which will tak
 e us deeper into an understanding of our own biases and maybe our own oppr
 essions. No artistic skills required. Please come with an openness to shar
 e and explore.\n\nThe ARMT welcomes any interested members of the congrega
 tion to attend! Please reach out to joAnn kowalski @ jmkowalski10@gmail.
 com to indicate your intention to atten
END:VEVENT
BEGIN:VTIMEZONE
TZID:America/New_York
X-LIC-LOCATION:America/New_York
BEGIN:DAYLIGHT
DTSTART:20230312T030000
TZOFFSETFROM:-0500
TZOFFSETTO:-0400
TZNAME:EDT
END:DAYLIGHT
END:VTIMEZONE
END:VCALENDAR